BEGIN:VCALENDAR
VERSION:2.0
PRODID:icalendar-ruby
CALSCALE:GREGORIAN
METHOD:PUBLISH
BEGIN:VEVENT
DTSTAMP:20260419T185802Z
UID:43-326839@fortpentecostal.ca
DTSTART:20261011T163000Z
DTEND:20261011T180000Z
CLASS:PUBLIC
CREATED:20260419T120920
DESCRIPTION:Join us for Sunday Worship\nSometimes we have traditional type 
 service with singing and preaching.\nSometimes we circle the chairs and ha
 ve a discussion.\nIf you like a small group vibe we fit the bill!
LAST-MODIFIED:20260419T120920
LOCATION:
SUMMARY:Sunday Worship
URL;VALUE=URI:https://www.fortpentecostal.ca/events/sunday-worship/2026-10-
 11
ATTACH;FILENAME=Bible 2.jpg;FMTTYPE=image/jpeg:https://dq5pwpg1q8ru0.cloudf
 ront.net/2023/04/24/11/46/37/b8009cbf-8571-45a4-9b88-581cb287e358/Bible%20
 2.jpg
END:VEVENT
END:VCALENDAR
